Workbook

Sheet Prioriteren
A1: Onderwerp | B1: Pagina | C1: Nieuwe pagina? (ja/nee) | D1: Belang voor het bedrijf (1-5) | E1: Vertoningen per maand | F1: Positie nu (absoluut) | G1: Doorklikratio nu | H1: Doelpositie | I1: Aantal analyses dat dit aanwijst | J1: Aantal pagina's | K1: Doorklikratio op doelpositie | L1: Moeite | M1: Belangfactor | N1: Extra kliks per maand (gewogen) | O1: Gewichtsklasse | P1: Sorteersleutel | Q1: Volgorde
K2: =IF(A2="","",IFERROR(VLOOKUP(H2,'Doorklik per positie'!$A$4:$B$13,2,FALSE),0)) | L2: =IF(A2="","",IF(C2="ja","middel",IF(J2<=5,"klein",IF(J2<=20,"middel","groot")))) | M2: =IF(A2="","",D2/AVERAGE($D$2:$D$101)) | N2: =IF(A2="","",IF(AND(F2<>"",H2>=F2),0,ROUND(MAX(0,E2*(K2-IF(G2<>"",G2,IF(F2="",0,IFERROR(VLOOKUP(F2,'Doorklik per positie'!$A$4:$B$13,2,FALSE),0)))))*M2,1))) | O2: =IF(A2="","",1+INT(4*(RANK.EQ(N2,$N$2:$N$101,0)-1)/COUNT($N$2:$N$101))) | P2: =IF(A2="","",O2*1000+(10-MIN(I2,9))*100+IF(L2="klein",1,IF(L2="middel",2,3))*10+(1-IFERROR(N2/MAX($N$2:$N$101),0))*9) | Q2: =IF(A2="","",RANK.EQ(P2,$P$2:$P$101,1)+COUNTIF($P$2:P2,P2)-1)
K3: =IF(A3="","",IFERROR(VLOOKUP(H3,'Doorklik per positie'!$A$4:$B$13,2,FALSE),0)) | L3: =IF(A3="","",IF(C3="ja","middel",IF(J3<=5,"klein",IF(J3<=20,"middel","groot")))) | M3: =IF(A3="","",D3/AVERAGE($D$2:$D$101)) | N3: =IF(A3="","",IF(AND(F3<>"",H3>=F3),0,ROUND(MAX(0,E3*(K3-IF(G3<>"",G3,IF(F3="",0,IFERROR(VLOOKUP(F3,'Doorklik per positie'!$A$4:$B$13,2,FALSE),0)))))*M3,1))) | O3: =IF(A3="","",1+INT(4*(RANK.EQ(N3,$N$2:$N$101,0)-1)/COUNT($N$2:$N$101))) | P3: =IF(A3="","",O3*1000+(10-MIN(I3,9))*100+IF(L3="klein",1,IF(L3="middel",2,3))*10+(1-IFERROR(N3/MAX($N$2:$N$101),0))*9) | Q3: =IF(A3="","",RANK.EQ(P3,$P$2:$P$101,1)+COUNTIF($P$2:P3,P3)-1)
K4: =IF(A4="","",IFERROR(VLOOKUP(H4,'Doorklik per positie'!$A$4:$B$13,2,FALSE),0)) | L4: =IF(A4="","",IF(C4="ja","middel",IF(J4<=5,"klein",IF(J4<=20,"middel","groot")))) | M4: =IF(A4="","",D4/AVERAGE($D$2:$D$101)) | N4: =IF(A4="","",IF(AND(F4<>"",H4>=F4),0,ROUND(MAX(0,E4*(K4-IF(G4<>"",G4,IF(F4="",0,IFERROR(VLOOKUP(F4,'Doorklik per positie'!$A$4:$B$13,2,FALSE),0)))))*M4,1))) | O4: =IF(A4="","",1+INT(4*(RANK.EQ(N4,$N$2:$N$101,0)-1)/COUNT($N$2:$N$101))) | P4: =IF(A4="","",O4*1000+(10-MIN(I4,9))*100+IF(L4="klein",1,IF(L4="middel",2,3))*10+(1-IFERROR(N4/MAX($N$2:$N$101),0))*9) | Q4: =IF(A4="","",RANK.EQ(P4,$P$2:$P$101,1)+COUNTIF($P$2:P4,P4)-1)
K5: =IF(A5="","",IFERROR(VLOOKUP(H5,'Doorklik per positie'!$A$4:$B$13,2,FALSE),0)) | L5: =IF(A5="","",IF(C5="ja","middel",IF(J5<=5,"klein",IF(J5<=20,"middel","groot")))) | M5: =IF(A5="","",D5/AVERAGE($D$2:$D$101)) | N5: =IF(A5="","",IF(AND(F5<>"",H5>=F5),0,ROUND(MAX(0,E5*(K5-IF(G5<>"",G5,IF(F5="",0,IFERROR(VLOOKUP(F5,'Doorklik per positie'!$A$4:$B$13,2,FALSE),0)))))*M5,1))) | O5: =IF(A5="","",1+INT(4*(RANK.EQ(N5,$N$2:$N$101,0)-1)/COUNT($N$2:$N$101))) | P5: =IF(A5="","",O5*1000+(10-MIN(I5,9))*100+IF(L5="klein",1,IF(L5="middel",2,3))*10+(1-IFERROR(N5/MAX($N$2:$N$101),0))*9) | Q5: =IF(A5="","",RANK.EQ(P5,$P$2:$P$101,1)+COUNTIF($P$2:P5,P5)-1)
K6: =IF(A6="","",IFERROR(VLOOKUP(H6,'Doorklik per positie'!$A$4:$B$13,2,FALSE),0)) | L6: =IF(A6="","",IF(C6="ja","middel",IF(J6<=5,"klein",IF(J6<=20,"middel","groot")))) | M6: =IF(A6="","",D6/AVERAGE($D$2:$D$101)) | N6: =IF(A6="","",IF(AND(F6<>"",H6>=F6),0,ROUND(MAX(0,E6*(K6-IF(G6<>"",G6,IF(F6="",0,IFERROR(VLOOKUP(F6,'Doorklik per positie'!$A$4:$B$13,2,FALSE),0)))))*M6,1))) | O6: =IF(A6="","",1+INT(4*(RANK.EQ(N6,$N$2:$N$101,0)-1)/COUNT($N$2:$N$101))) | P6: =IF(A6="","",O6*1000+(10-MIN(I6,9))*100+IF(L6="klein",1,IF(L6="middel",2,3))*10+(1-IFERROR(N6/MAX($N$2:$N$101),0))*9) | Q6: =IF(A6="","",RANK.EQ(P6,$P$2:$P$101,1)+COUNTIF($P$2:P6,P6)-1)
K7: =IF(A7="","",IFERROR(VLOOKUP(H7,'Doorklik per positie'!$A$4:$B$13,2,FALSE),0)) | L7: =IF(A7="","",IF(C7="ja","middel",IF(J7<=5,"klein",IF(J7<=20,"middel","groot")))) | M7: =IF(A7="","",D7/AVERAGE($D$2:$D$101)) | N7: =IF(A7="","",IF(AND(F7<>"",H7>=F7),0,ROUND(MAX(0,E7*(K7-IF(G7<>"",G7,IF(F7="",0,IFERROR(VLOOKUP(F7,'Doorklik per positie'!$A$4:$B$13,2,FALSE),0)))))*M7,1))) | O7: =IF(A7="","",1+INT(4*(RANK.EQ(N7,$N$2:$N$101,0)-1)/COUNT($N$2:$N$101))) | P7: =IF(A7="","",O7*1000+(10-MIN(I7,9))*100+IF(L7="klein",1,IF(L7="middel",2,3))*10+(1-IFERROR(N7/MAX($N$2:$N$101),0))*9) | Q7: =IF(A7="","",RANK.EQ(P7,$P$2:$P$101,1)+COUNTIF($P$2:P7,P7)-1)
K8: =IF(A8="","",IFERROR(VLOOKUP(H8,'Doorklik per positie'!$A$4:$B$13,2,FALSE),0)) | L8: =IF(A8="","",IF(C8="ja","middel",IF(J8<=5,"klein",IF(J8<=20,"middel","groot")))) | M8: =IF(A8="","",D8/AVERAGE($D$2:$D$101)) | N8: =IF(A8="","",IF(AND(F8<>"",H8>=F8),0,ROUND(MAX(0,E8*(K8-IF(G8<>"",G8,IF(F8="",0,IFERROR(VLOOKUP(F8,'Doorklik per positie'!$A$4:$B$13,2,FALSE),0)))))*M8,1))) | O8: =IF(A8="","",1+INT(4*(RANK.EQ(N8,$N$2:$N$101,0)-1)/COUNT($N$2:$N$101))) | P8: =IF(A8="","",O8*1000+(10-MIN(I8,9))*100+IF(L8="klein",1,IF(L8="middel",2,3))*10+(1-IFERROR(N8/MAX($N$2:$N$101),0))*9) | Q8: =IF(A8="","",RANK.EQ(P8,$P$2:$P$101,1)+COUNTIF($P$2:P8,P8)-1)
K9: =IF(A9="","",IFERROR(VLOOKUP(H9,'Doorklik per positie'!$A$4:$B$13,2,FALSE),0)) | L9: =IF(A9="","",IF(C9="ja","middel",IF(J9<=5,"klein",IF(J9<=20,"middel","groot")))) | M9: =IF(A9="","",D9/AVERAGE($D$2:$D$101)) | N9: =IF(A9="","",IF(AND(F9<>"",H9>=F9),0,ROUND(MAX(0,E9*(K9-IF(G9<>"",G9,IF(F9="",0,IFERROR(VLOOKUP(F9,'Doorklik per positie'!$A$4:$B$13,2,FALSE),0)))))*M9,1))) | O9: =IF(A9="","",1+INT(4*(RANK.EQ(N9,$N$2:$N$101,0)-1)/COUNT($N$2:$N$101))) | P9: =IF(A9="","",O9*1000+(10-MIN(I9,9))*100+IF(L9="klein",1,IF(L9="middel",2,3))*10+(1-IFERROR(N9/MAX($N$2:$N$101),0))*9) | Q9: =IF(A9="","",RANK.EQ(P9,$P$2:$P$101,1)+COUNTIF($P$2:P9,P9)-1)
K10: =IF(A10="","",IFERROR(VLOOKUP(H10,'Doorklik per positie'!$A$4:$B$13,2,FALSE),0)) | L10: =IF(A10="","",IF(C10="ja","middel",IF(J10<=5,"klein",IF(J10<=20,"middel","groot")))) | M10: =IF(A10="","",D10/AVERAGE($D$2:$D$101)) | N10: =IF(A10="","",IF(AND(F10<>"",H10>=F10),0,ROUND(MAX(0,E10*(K10-IF(G10<>"",G10,IF(F10="",0,IFERROR(VLOOKUP(F10,'Doorklik per positie'!$A$4:$B$13,2,FALSE),0)))))*M10,1))) | O10: =IF(A10="","",1+INT(4*(RANK.EQ(N10,$N$2:$N$101,0)-1)/COUNT($N$2:$N$101))) | P10: =IF(A10="","",O10*1000+(10-MIN(I10,9))*100+IF(L10="klein",1,IF(L10="middel",2,3))*10+(1-IFERROR(N10/MAX($N$2:$N$101),0))*9) | Q10: =IF(A10="","",RANK.EQ(P10,$P$2:$P$101,1)+COUNTIF($P$2:P10,P10)-1)
K11: =IF(A11="","",IFERROR(VLOOKUP(H11,'Doorklik per positie'!$A$4:$B$13,2,FALSE),0)) | L11: =IF(A11="","",IF(C11="ja","middel",IF(J11<=5,"klein",IF(J11<=20,"middel","groot")))) | M11: =IF(A11="","",D11/AVERAGE($D$2:$D$101)) | N11: =IF(A11="","",IF(AND(F11<>"",H11>=F11),0,ROUND(MAX(0,E11*(K11-IF(G11<>"",G11,IF(F11="",0,IFERROR(VLOOKUP(F11,'Doorklik per positie'!$A$4:$B$13,2,FALSE),0)))))*M11,1))) | O11: =IF(A11="","",1+INT(4*(RANK.EQ(N11,$N$2:$N$101,0)-1)/COUNT($N$2:$N$101))) | P11: =IF(A11="","",O11*1000+(10-MIN(I11,9))*100+IF(L11="klein",1,IF(L11="middel",2,3))*10+(1-IFERROR(N11/MAX($N$2:$N$101),0))*9) | Q11: =IF(A11="","",RANK.EQ(P11,$P$2:$P$101,1)+COUNTIF($P$2:P11,P11)-1)
K12: =IF(A12="","",IFERROR(VLOOKUP(H12,'Doorklik per positie'!$A$4:$B$13,2,FALSE),0)) | L12: =IF(A12="","",IF(C12="ja","middel",IF(J12<=5,"klein",IF(J12<=20,"middel","groot")))) | M12: =IF(A12="","",D12/AVERAGE($D$2:$D$101)) | N12: =IF(A12="","",IF(AND(F12<>"",H12>=F12),0,ROUND(MAX(0,E12*(K12-IF(G12<>"",G12,IF(F12="",0,IFERROR(VLOOKUP(F12,'Doorklik per positie'!$A$4:$B$13,2,FALSE),0)))))*M12,1))) | O12: =IF(A12="","",1+INT(4*(RANK.EQ(N12,$N$2:$N$101,0)-1)/COUNT($N$2:$N$101))) | P12: =IF(A12="","",O12*1000+(10-MIN(I12,9))*100+IF(L12="klein",1,IF(L12="middel",2,3))*10+(1-IFERROR(N12/MAX($N$2:$N$101),0))*9) | Q12: =IF(A12="","",RANK.EQ(P12,$P$2:$P$101,1)+COUNTIF($P$2:P12,P12)-1)
K13: =IF(A13="","",IFERROR(VLOOKUP(H13,'Doorklik per positie'!$A$4:$B$13,2,FALSE),0)) | L13: =IF(A13="","",IF(C13="ja","middel",IF(J13<=5,"klein",IF(J13<=20,"middel","groot")))) | M13: =IF(A13="","",D13/AVERAGE($D$2:$D$101)) | N13: =IF(A13="","",IF(AND(F13<>"",H13>=F13),0,ROUND(MAX(0,E13*(K13-IF(G13<>"",G13,IF(F13="",0,IFERROR(VLOOKUP(F13,'Doorklik per positie'!$A$4:$B$13,2,FALSE),0)))))*M13,1))) | O13: =IF(A13="","",1+INT(4*(RANK.EQ(N13,$N$2:$N$101,0)-1)/COUNT($N$2:$N$101))) | P13: =IF(A13="","",O13*1000+(10-MIN(I13,9))*100+IF(L13="klein",1,IF(L13="middel",2,3))*10+(1-IFERROR(N13/MAX($N$2:$N$101),0))*9) | Q13: =IF(A13="","",RANK.EQ(P13,$P$2:$P$101,1)+COUNTIF($P$2:P13,P13)-1)
... K101: =IF(A101="","",IFERROR(VLOOKUP(H101,'Doorklik per positie'!$A$4:$B$13,2,FALSE),0)) | L101: =IF(A101="","",IF(C101="ja","middel",IF(J101<=5,"klein",IF(J101<=20,"middel","groot")))) | M101: =IF(A101="","",D101/AVERAGE($D$2:$D$101)) | N101: =IF(A101="","",IF(AND(F101<>"",H101>=F101),0,ROUND(MAX(0,E101*(K101-IF(G101<>"",G101,IF(F101="",0,IFERROR(VLOOKUP(F101,'Doorklik per positie'!$A$4:$B$13,2,FALSE),0)))))*M101,1))) | O101: =IF(A101="","",1+INT(4*(RANK.EQ(N101,$N$2:$N$101,0)-1)/COUNT($N$2:$N$101))) | P101: =IF(A101="","",O101*1000+(10-MIN(I101,9))*100+IF(L101="klein",1,IF(L101="middel",2,3))*10+(1-IFERROR(N101/MAX($N$2:$N$101),0))*9) | Q101: =IF(A101="","",RANK.EQ(P101,$P$2:$P$101,1)+COUNTIF($P$2:P101,P101)-1)

Sheet Doorklik per positie
A1: Doorklikratio per positie. Vul de cijfers van je eigen site in.
A2: Startwaarden: eigen meting RankFellow, doorklikratio per afgeronde gemiddelde positie in Google Search Console, zonder merkzoekopdrachten, de organisaties die ik meet samen, juli tot oktober 2026. Dat is niet de absolute positie. Vervang de waarden door die van je eigen site: exporteer in Search Console de zoekopdrachten van de laatste drie maanden, rond de positie af en deel per positie de kliks door de vertoningen.
A3: Positie | B3: Doorklikratio | C3: Toelichting
A4: 1 | B4: 0.0217
A5: 2 | B5: 0.0174
A6: 3 | B6: 0.0118
A7: 4 | B7: 0.0096
A8: 5 | B8: 0.0072
A9: 6 | B9: 0.0042
A10: 7 | B10: 0.003
A11: 8 | B11: 0.0032
A12: 9 | B12: 0.0025
A13: 10 | B13: 0.0025

Sheet Contentplanning
A1: De bovenste twaalf voorstellen uit Prioriteren, in volgorde. Vul per regel in wie het doet en wanneer het klaar is.
A2: Volgorde | B2: Onderwerp | C2: Pagina | D2: Moeite | E2: Gewichtsklasse | F2: Wie | G2: Klaar op | H2: Status
A3: 1 | B3: =IFERROR(INDEX(Prioriteren!$A$2:$A$101,MATCH($A3,Prioriteren!$Q$2:$Q$101,0))&"","") | C3: =IFERROR(INDEX(Prioriteren!$B$2:$B$101,MATCH($A3,Prioriteren!$Q$2:$Q$101,0))&"","") | D3: =IFERROR(INDEX(Prioriteren!$L$2:$L$101,MATCH($A3,Prioriteren!$Q$2:$Q$101,0)),"") | E3: =IFERROR(INDEX(Prioriteren!$O$2:$O$101,MATCH($A3,Prioriteren!$Q$2:$Q$101,0)),"")
A4: 2 | B4: =IFERROR(INDEX(Prioriteren!$A$2:$A$101,MATCH($A4,Prioriteren!$Q$2:$Q$101,0))&"","") | C4: =IFERROR(INDEX(Prioriteren!$B$2:$B$101,MATCH($A4,Prioriteren!$Q$2:$Q$101,0))&"","") | D4: =IFERROR(INDEX(Prioriteren!$L$2:$L$101,MATCH($A4,Prioriteren!$Q$2:$Q$101,0)),"") | E4: =IFERROR(INDEX(Prioriteren!$O$2:$O$101,MATCH($A4,Prioriteren!$Q$2:$Q$101,0)),"")
A5: 3 | B5: =IFERROR(INDEX(Prioriteren!$A$2:$A$101,MATCH($A5,Prioriteren!$Q$2:$Q$101,0))&"","") | C5: =IFERROR(INDEX(Prioriteren!$B$2:$B$101,MATCH($A5,Prioriteren!$Q$2:$Q$101,0))&"","") | D5: =IFERROR(INDEX(Prioriteren!$L$2:$L$101,MATCH($A5,Prioriteren!$Q$2:$Q$101,0)),"") | E5: =IFERROR(INDEX(Prioriteren!$O$2:$O$101,MATCH($A5,Prioriteren!$Q$2:$Q$101,0)),"")
A6: 4 | B6: =IFERROR(INDEX(Prioriteren!$A$2:$A$101,MATCH($A6,Prioriteren!$Q$2:$Q$101,0))&"","") | C6: =IFERROR(INDEX(Prioriteren!$B$2:$B$101,MATCH($A6,Prioriteren!$Q$2:$Q$101,0))&"","") | D6: =IFERROR(INDEX(Prioriteren!$L$2:$L$101,MATCH($A6,Prioriteren!$Q$2:$Q$101,0)),"") | E6: =IFERROR(INDEX(Prioriteren!$O$2:$O$101,MATCH($A6,Prioriteren!$Q$2:$Q$101,0)),"")
A7: 5 | B7: =IFERROR(INDEX(Prioriteren!$A$2:$A$101,MATCH($A7,Prioriteren!$Q$2:$Q$101,0))&"","") | C7: =IFERROR(INDEX(Prioriteren!$B$2:$B$101,MATCH($A7,Prioriteren!$Q$2:$Q$101,0))&"","") | D7: =IFERROR(INDEX(Prioriteren!$L$2:$L$101,MATCH($A7,Prioriteren!$Q$2:$Q$101,0)),"") | E7: =IFERROR(INDEX(Prioriteren!$O$2:$O$101,MATCH($A7,Prioriteren!$Q$2:$Q$101,0)),"")
A8: 6 | B8: =IFERROR(INDEX(Prioriteren!$A$2:$A$101,MATCH($A8,Prioriteren!$Q$2:$Q$101,0))&"","") | C8: =IFERROR(INDEX(Prioriteren!$B$2:$B$101,MATCH($A8,Prioriteren!$Q$2:$Q$101,0))&"","") | D8: =IFERROR(INDEX(Prioriteren!$L$2:$L$101,MATCH($A8,Prioriteren!$Q$2:$Q$101,0)),"") | E8: =IFERROR(INDEX(Prioriteren!$O$2:$O$101,MATCH($A8,Prioriteren!$Q$2:$Q$101,0)),"")
A9: 7 | B9: =IFERROR(INDEX(Prioriteren!$A$2:$A$101,MATCH($A9,Prioriteren!$Q$2:$Q$101,0))&"","") | C9: =IFERROR(INDEX(Prioriteren!$B$2:$B$101,MATCH($A9,Prioriteren!$Q$2:$Q$101,0))&"","") | D9: =IFERROR(INDEX(Prioriteren!$L$2:$L$101,MATCH($A9,Prioriteren!$Q$2:$Q$101,0)),"") | E9: =IFERROR(INDEX(Prioriteren!$O$2:$O$101,MATCH($A9,Prioriteren!$Q$2:$Q$101,0)),"")
A10: 8 | B10: =IFERROR(INDEX(Prioriteren!$A$2:$A$101,MATCH($A10,Prioriteren!$Q$2:$Q$101,0))&"","") | C10: =IFERROR(INDEX(Prioriteren!$B$2:$B$101,MATCH($A10,Prioriteren!$Q$2:$Q$101,0))&"","") | D10: =IFERROR(INDEX(Prioriteren!$L$2:$L$101,MATCH($A10,Prioriteren!$Q$2:$Q$101,0)),"") | E10: =IFERROR(INDEX(Prioriteren!$O$2:$O$101,MATCH($A10,Prioriteren!$Q$2:$Q$101,0)),"")
A11: 9 | B11: =IFERROR(INDEX(Prioriteren!$A$2:$A$101,MATCH($A11,Prioriteren!$Q$2:$Q$101,0))&"","") | C11: =IFERROR(INDEX(Prioriteren!$B$2:$B$101,MATCH($A11,Prioriteren!$Q$2:$Q$101,0))&"","") | D11: =IFERROR(INDEX(Prioriteren!$L$2:$L$101,MATCH($A11,Prioriteren!$Q$2:$Q$101,0)),"") | E11: =IFERROR(INDEX(Prioriteren!$O$2:$O$101,MATCH($A11,Prioriteren!$Q$2:$Q$101,0)),"")
A12: 10 | B12: =IFERROR(INDEX(Prioriteren!$A$2:$A$101,MATCH($A12,Prioriteren!$Q$2:$Q$101,0))&"","") | C12: =IFERROR(INDEX(Prioriteren!$B$2:$B$101,MATCH($A12,Prioriteren!$Q$2:$Q$101,0))&"","") | D12: =IFERROR(INDEX(Prioriteren!$L$2:$L$101,MATCH($A12,Prioriteren!$Q$2:$Q$101,0)),"") | E12: =IFERROR(INDEX(Prioriteren!$O$2:$O$101,MATCH($A12,Prioriteren!$Q$2:$Q$101,0)),"")
A13: 11 | B13: =IFERROR(INDEX(Prioriteren!$A$2:$A$101,MATCH($A13,Prioriteren!$Q$2:$Q$101,0))&"","") | C13: =IFERROR(INDEX(Prioriteren!$B$2:$B$101,MATCH($A13,Prioriteren!$Q$2:$Q$101,0))&"","") | D13: =IFERROR(INDEX(Prioriteren!$L$2:$L$101,MATCH($A13,Prioriteren!$Q$2:$Q$101,0)),"") | E13: =IFERROR(INDEX(Prioriteren!$O$2:$O$101,MATCH($A13,Prioriteren!$Q$2:$Q$101,0)),"")
A14: 12 | B14: =IFERROR(INDEX(Prioriteren!$A$2:$A$101,MATCH($A14,Prioriteren!$Q$2:$Q$101,0))&"","") | C14: =IFERROR(INDEX(Prioriteren!$B$2:$B$101,MATCH($A14,Prioriteren!$Q$2:$Q$101,0))&"","") | D14: =IFERROR(INDEX(Prioriteren!$L$2:$L$101,MATCH($A14,Prioriteren!$Q$2:$Q$101,0)),"") | E14: =IFERROR(INDEX(Prioriteren!$O$2:$O$101,MATCH($A14,Prioriteren!$Q$2:$Q$101,0)),"")

Sheet Uitleg
A1: Wat er in elke kolom van Prioriteren staat
A3: Onderwerp | B3: Het onderwerp, in de woorden van de klant (stap 5 van de gids)
A4: Pagina | B4: Het pad van de bestaande pagina, of leeg bij een nieuwe pagina
A5: Nieuwe pagina? (ja/nee) | B5: ja als de pagina nog niet bestaat
A6: Belang voor het bedrijf (1-5) | B6: 5 is het zwaarst: marge, voorraad, strategische focus
A7: Vertoningen per maand | B7: Uit Search Console, de pagina of het onderwerp over de laatste drie maanden gedeeld door drie. Bij een nieuwe pagina: het zoekvolume per maand
A8: Positie nu (absoluut) | B8: De plek in de SERP van boven geteld, SERP-features en advertenties meegeteld. Leeg als je niet in de bovenste tien staat. Ligt de doelpositie niet hoger dan deze positie, dan levert het voorstel in de sheet geen extra kliks op
A9: Doorklikratio nu | B9: Kliks gedeeld door vertoningen uit Search Console; bij een groep pagina's de kliks en vertoningen van de groep opgeteld. Bij een nieuwe pagina 0. Laat je hem leeg, dan neemt de sheet de doorklikratio bij de positie nu uit het tabblad Doorklik per positie
A10: Doelpositie | B10: De plek die je haalbaar vindt, 1 tot en met 10. Kies lager bij een zwaar bezet onderwerp
A11: Aantal analyses dat dit aanwijst | B11: Hoeveel stappen of analyses tot dit voorstel leiden
A12: Aantal pagina's | B12: Hoeveel pagina's je voor dit voorstel aanpast of maakt
A13: Doorklikratio op doelpositie | B13: Rekent de sheet uit het tabblad Doorklik per positie
A14: Moeite | B14: Rekent de sheet: tot 5 pagina's klein, tot 20 middel, daarboven groot; een nieuwe pagina is middel
... A19: Volgorde | B19: Rekent de sheet: 1 pak je eerst op
A22: Vul de kolommen A tot en met J in. De grijze kolommen rekent de sheet. Begin elke periode opnieuw met verse cijfers; de volgorde verandert dan vanzelf mee.
